BEGIN:VCALENDAR
VERSION:2.0
PRODID:-//ACESEM - ECPv6.15.17.1//NONSGML v1.0//EN
CALSCALE:GREGORIAN
METHOD:PUBLISH
X-ORIGINAL-URL:https://acesem.org
X-WR-CALDESC:Esdeveniments per ACESEM
REFRESH-INTERVAL;VALUE=DURATION:PT1H
X-Robots-Tag:noindex
X-PUBLISHED-TTL:PT1H
BEGIN:VTIMEZONE
TZID:UTC
BEGIN:STANDARD
TZOFFSETFROM:+0000
TZOFFSETTO:+0000
TZNAME:UTC
DTSTART:20190101T000000
END:STANDARD
END:VTIMEZONE
BEGIN:VEVENT
DTSTART;TZID=UTC:20201026T100000
DTEND;TZID=UTC:20201026T100000
DTSTAMP:20260423T151418
CREATED:20201022T124051Z
LAST-MODIFIED:20201022T161138Z
UID:1917-1603706400-1603706400@acesem.org
SUMMARY:Del 2 al 30 de novembre del 2020 – Curs ONLINE de Tècnic Mitg de Qualitat Ambiental Interior
DESCRIPTION:Duración: 25 horas \n\nPrecio SOCIO: 300 €\nPrecio NO SOCIO: 900 €\n\n\n  \n[Av_button label = ‘Descarga el documento por la inscripción’ icon_select = ‘yes-right-icon’ icon = ‘ue8b0’ fuente = ‘entypo-Fontelles’ link = ‘Manually\, https: //acesem.org/wp-content/ uploads / 2020/10 / INSCRIPCION-TMedio-2020.pdf ‘link_target =’ ‘size =’ small ‘position =’ center ‘label_display =’ ‘title_attr =’ ‘color_options =’ ‘color =’ theme-color ‘custom_bg =’ # 444444 ‘custom_font =’ # ffffff ‘btn_color_bg =’ theme-color ‘btn_custom_bg =’ # 444444 ‘btn_color_bg_hover =’ theme-color-highlight ‘btn_custom_bg_hover =’ # 444444 ‘btn_color_font =’ theme-color ‘btn_custom_font =’ # ffffff ‘ id = ” custom_class = ” av_uid = ” admin_preview_bg = ”] \n  \nBOLETÍN DE INSCRIPCIÓN: remitente debidamente cumplimentada acompanando justificante de la transferencia bancaria a: informacion@acesem.org o al fax 93 496 45 32. deberia acero constar el número y apellidos de la persona inscrita en super doc.de pago \nIBAN: ES67 2100 0540 3602 0028 6471 \ninformacion@acesem.org \nFAX: 93 4964532 \nEn el caso de desear información pueder ponerse en contacto con la Srta. Lidia Sebastian en el teléfono 93 496 45 07. \nPlazas limitadas.
URL:https://acesem.org/cursos/del-26-doctubre-al-27-de-novembre-del-2020-curs-online-de-tecnic-mitg-de-qualitat-ambiental-interior/
ORGANIZER;CN="ACESEM":MAILTO:informacion@acesem.org
END:VEVENT
BEGIN:VEVENT
DTSTART;TZID=UTC:20201026T100000
DTEND;TZID=UTC:20201026T100000
DTSTAMP:20260423T151418
CREATED:20201022T124321Z
LAST-MODIFIED:20201022T161108Z
UID:1922-1603706400-1603706400@acesem.org
SUMMARY:Del 2 al 30 de novembre del 2020 – Curs ONLINE de Tècnic Superior de Qualitat Ambiental Interior
DESCRIPTION:Duración: 40 horas \n\nPrecio SOCIO: 400 €\nPrecio NO SOCIO: 1200 €\n\n\n  \n[Av_button label = ‘Descarga el documento de inscripción’ icon_select = ‘yes-right-icon’ icon = ‘ue8b0’ fuente = ‘entypo-Fontelles’ link = ‘Manually\, https: //acesem.org/wp-content/uploads /2020/10/INSCRIPCION-TSuperior-2020.pdf ‘link_target =’ ‘size =’ small ‘position =’ center ‘label_display =’ ‘title_attr =’ ‘color_options =’ ‘color =’ theme-color ‘custom_bg =’ # 444444 ‘custom_font =’ # ffffff ‘btn_color_bg =’ theme-color ‘btn_custom_bg =’ # 444444 ‘btn_color_bg_hover =’ theme-color-highlight ‘btn_custom_bg_hover =’ # 444444 ‘btn_color_font =’ theme-color ‘btn_custom_font =’ # ffffff ‘id = ” custom_class = ” av_uid = ” admin_preview_bg = ”] \n  \nBOLETÍN DE INSCRIPCIÓN: remitente debidamente cumplimentada acompanando justificante de la transferencia bancaria a: informacion@acesem.org o al fax 93 496 45 32. deberia acero constar el número y apellidos de la persona inscrita en super doc.de pago \nIBAN: ES67 2100 0540 3602 0028 6471 \ninformacion@acesem.org \nFAX: 93 4964532 \nEn el caso de desear información pueder ponerse en contacto con la Srta. Lidia Sebastian en el teléfono 93 496 45 07. \nPlazas limitadas.
URL:https://acesem.org/cursos/del-26-doctubre-al-27-de-novembre-del-2020-curs-online-de-tecnic-superior-de-qualitat-ambiental-interior/
ORGANIZER;CN="ACESEM":MAILTO:informacion@acesem.org
END:VEVENT
END:VCALENDAR