BEGIN:VCALENDAR
VERSION:2.0
PRODID:-//ACESEM - ECPv6.15.17.1//NONSGML v1.0//EN
CALSCALE:GREGORIAN
METHOD:PUBLISH
X-ORIGINAL-URL:https://acesem.org/es/
X-WR-CALDESC:Eventos para ACESEM
REFRESH-INTERVAL;VALUE=DURATION:PT1H
X-Robots-Tag:noindex
X-PUBLISHED-TTL:PT1H
BEGIN:VTIMEZONE
TZID:Europe/Madrid
BEGIN:DAYLIGHT
TZOFFSETFROM:+0100
TZOFFSETTO:+0200
TZNAME:CEST
DTSTART:20190331T010000
END:DAYLIGHT
BEGIN:STANDARD
TZOFFSETFROM:+0200
TZOFFSETTO:+0100
TZNAME:CET
DTSTART:20191027T010000
END:STANDARD
BEGIN:DAYLIGHT
TZOFFSETFROM:+0100
TZOFFSETTO:+0200
TZNAME:CEST
DTSTART:20200329T010000
END:DAYLIGHT
BEGIN:STANDARD
TZOFFSETFROM:+0200
TZOFFSETTO:+0100
TZNAME:CET
DTSTART:20201025T010000
END:STANDARD
BEGIN:DAYLIGHT
TZOFFSETFROM:+0100
TZOFFSETTO:+0200
TZNAME:CEST
DTSTART:20210328T010000
END:DAYLIGHT
BEGIN:STANDARD
TZOFFSETFROM:+0200
TZOFFSETTO:+0100
TZNAME:CET
DTSTART:20211031T010000
END:STANDARD
END:VTIMEZONE
BEGIN:VEVENT
DTSTART;TZID=Europe/Madrid:20200306T080000
DTEND;TZID=Europe/Madrid:20200306T170000
DTSTAMP:20260423T232705
CREATED:20200306T083053Z
LAST-MODIFIED:20200306T083053Z
UID:1607-1583481600-1583514000@acesem.org
SUMMARY:Curso de Auditor de la UNE 100030:2017 de Prevención y Control de Legionella
DESCRIPTION:Por si fuera de su interés\, más abajo encontrará el programa de la nueva edición del Curso de Auditor de la UNE 100030:2017 de Prevención y Control de Legionella. \n  \nEn este enlace tienen la información del curso: \nhttps://aquaespana.org/es/eventos/curso-de-auditor-de-la-une-1000302017-de-prevencion-y-control-de-legionella \nLas inscripciones al Curso serán tramitadas por la empresa Aqua España. \nPara cualquier consulta relativa al Curso o la Inscripción\, diríjase a; \nAsociacion Española de Empresas del Sector del Agua \nAQUA ESPAÑA \nAvda. Corts Catalanes  5\, 1ª planta \n08173 Sant Cugat del Vallès – Barcelona – España \nTelf.: +34 935 041 094 \nasociacion@aquaespana.org \n  \nReciba un cordial saludo\,
URL:https://acesem.org/es/cursos/curso-de-auditor-de-la-une-1000302017-de-prevencion-y-control-de-legionella/
END:VEVENT
END:VCALENDAR