BEGIN:VCALENDAR
VERSION:2.0
PRODID:-//ACESEM - ECPv6.15.17.1//NONSGML v1.0//EN
CALSCALE:GREGORIAN
METHOD:PUBLISH
X-ORIGINAL-URL:https://acesem.org/es/
X-WR-CALDESC:Eventos para ACESEM
REFRESH-INTERVAL;VALUE=DURATION:PT1H
X-Robots-Tag:noindex
X-PUBLISHED-TTL:PT1H
BEGIN:VTIMEZONE
TZID:UTC
BEGIN:STANDARD
TZOFFSETFROM:+0000
TZOFFSETTO:+0000
TZNAME:UTC
DTSTART:20210101T000000
END:STANDARD
END:VTIMEZONE
BEGIN:VEVENT
DTSTART;VALUE=DATE:20220307
DTEND;VALUE=DATE:20220426
DTSTAMP:20260422T043119
CREATED:20200323T143959Z
LAST-MODIFIED:20220214T122915Z
UID:1274-1646611200-1650931199@acesem.org
SUMMARY:Del día 7 de marzo al 25 de abril de 2022 – Curso Técnico Superior (TSCAI) y Técnico Medio (TMCAI) de Calidad Ambiental en Interiores
DESCRIPTION:¿Por qué hacer el curso TSCAI-TMCAI? \nEl RD 238 de abril de 2013 de Modificaciones al RITE (Reglamento de Instalaciones Térmicas de los Edificios en España) incorporaciones la obligatoriedad de dos Nuevas operaciones de revisión relacionadas con la calidad de aire interior Según las norma UNE 171330 y UNE100012. Esta modified afecta la mayoria de los edificios en España. Con este Real decreto y los Acuerdos firmados entre FEDECAI-AENORy FEDECAI- TUV Cualicontrol NORTE\, con el Objetivo de realizar Inspecciones de Calidad Ambiental en Interiores comprobadas\, surge la Necesidad de disponen de personal formato y acreditaciones. \n¿A quién va dirigida? \nA Propietarios y gestores de edificios\, directoras encargados y Técnicos de mantenimiento\, preventivitas en hospitales y Centros Sanitarios\, empresas de auditorias de calidad\, Técnicos de laboratorio\, personal responsable de recursos humanos\, Personal responsable de Prevención de Riesgos Laborales\, arquitectos\, ingenieros\, inspectores de las administraciones (trabajo\, industria\, salud\, medio ambiente … etc). Estos cursos están destinados a la formación de Profesionales Técnicos Superiores y Medios de Calidad Ambiental en Interiores. \n¿Qué Requisitos se Tienen que cumplir para matricularse? \nPara optar a TSCAI (Técnico Superior de Calidad Ambiental Interior) será Necesario: disponen de titulación universitaria de ACUERDO con los Requisitos de la UNE 171330-2 de AENOR. \nPara optar a TMCAI (Técnico Medio de Calidad Ambiental Interior) será Necesario: disponen de Título de Formación Profesional de 1º grado o similar. \n¿Qué titulación se obtendrá? \nLos alumnos que superen el curso Recibir un certificado acreditativo emitida por FEDECAI (Federación Española de empresas de Calidad Ambiental Interior) \n¿Qué Trabajos podrán realizar? \nEste certificado es imprescindible para poder realizar inspecciones de CAI. \nLugar: Online \nData: Del 7 de marzo al 25 de abril \n  \n50 plazas\nPrecios cursos 2022 \nTSCAI  – Importe del curso: 400 € Asociados 1.200 € No Asociados  \nTMCAI  – Importe del curso: 300 € Asociados 900 € No Asociados \n  \n \n  \nPuedes acceder a la inscripción desde el siguiente enlace: \nINSCRIPCIÓN \n 
URL:https://acesem.org/es/cursos/del-dia-7-de-marzo-al-25-de-abril-de-2022-curso-tecnico-superior-tscai-y-tecnico-medio-tmcai-de-calidad-ambiental-en-interiores/
ATTACH;FMTTYPE=image/jpeg:https://acesem.org/wp-content/uploads/2022/02/Captura-1.jpg
END:VEVENT
END:VCALENDAR